BEGIN:VCALENDAR
VERSION:2.0
PRODID:-//kieselbach//NONSGML v1.0//EN
BEGIN:VEVENT
DTSTART;VALUE=DATE:20031004
DTEND;VALUE=DATE:20031004
DTSTAMP:20260424T153241Z
UID:69eb70f944c0c@kieselbach.hu
CREATED:20260424T153241Z
DESCRIPTION:A Kieselbach Galéria és Aukciósház tradicionális helyszíne\, a Vígszínház helyett nagy őszi árverését a most felújított Corinthia Grand Hotel Royal zsúfolásig megtelt báltermében tartotta. A kínálatban ezúttal is túlnyomórészt 1850-1950 közötti klasszikus magyar remekművek szerepeltek. Az aukción szereplő több mint 200 tétel heves licitek során kelt el.A várakozásoknak megfelelően Munkácsy Mihály könnyed Pihenő hölgye érte el a legmagasabb leütési árat\, 35 millió Ft-ot. Szinyei Merse Pál korai tájképe\, a Vezúv kitörése 26 millió Ft-os és Hollósy Simon naturalisztikus zsánerképe\, Kocsmai jelent (Áldomás) címmel szintén 26 millió Ft-os áron cserélt gazdát. Mattis Teutsch János kecses képe\, a Tavasz 18 millió Ft-ot\, Rippl-Rónai József Pihenő Zorkája 17 millió Ft-ot\, Tihanyi Lajos Vörösruhás nője 15 millió Ft-ot\, valamint id. Markó Károly bibliai témájú Klasszikus jelenet című képe szintén 15 millió Ft-ot\, míg Batthyány Gyula allegorikus Esernyős dámája 8 millió Ft-ot ért el. Az összleütés megközelítette az 500 millió Ft-ot. 24 festmény kelt el 5 millió fölött\, valamint 75 képet ütöttek le 1 és 5 millió Ft közötti áron.Az őszi sikeres aukció után a Kieselbach Galéria és Aukciósház nagy téli árverése ismét a Vígszínházban kerül megrendezésre december 12-én.
LOCATION:Corinthia Grand Hotel Royal Budapest (Erzsébet krt. 43-49.)
SUMMARY:23. Aukció
END:VEVENT
END:VCALENDAR