BEGIN:VCALENDAR
VERSION:2.0
PRODID:-//kieselbach//NONSGML v1.0//EN
BEGIN:VEVENT
DTSTART;VALUE=DATE:20241011
DTEND;VALUE=DATE:20241011
DTSTAMP:20260424T153144Z
UID:69eb70c09c91a@kieselbach.hu
CREATED:20260424T153144Z
DESCRIPTION:
LOCATION:Budapest Marriott Hotel
SUMMARY:75. Őszi aukció
END:VEVENT
END:VCALENDAR