BEGIN:VCALENDAR
VERSION:2.0
PRODID:-//kieselbach//NONSGML v1.0//EN
BEGIN:VEVENT
DTSTART;VALUE=DATE:20230421
DTEND;VALUE=DATE:20230421
DTSTAMP:20260424T192058Z
UID:69eba67ac74d1@kieselbach.hu
CREATED:20260424T192058Z
DESCRIPTION:A nagy sikerű\, országos rekordokat hozó téli aukció után itt a Kieselbach Galéria új kortárs árverése. Főművek és felfedezések\, plusz egy meglepetés előfutár: Vajda Lajos legnagyobb magánkézben őrzött olajképe. 
Hetvennyolc év telt el 1945 óta\, a második világháború vége óta\, ahonnan hagyományosan a művészettörténészek számolják a tágabb értelemben vett kortárs képzőművészet kezdetét. A nemzetközi világban ez a „post war &amp\; contemporary” kategória. Magyarországon ezt a korszakot a szocializmus kultúrpolitikájának és az illegális kortársaknak párhuzamos történetei bonyolítják. A Kieselbach Galéria tavaszi válogatásában tükröződik ennek a hetvennyolc esztendőnek sokszínű valósága\, szerepel benne az Európai Iskola tiltott öröksége\, a neoavantgárd kortárs klasszikusai\, a szocializmusnak görbe tükröt állítók\, a rendszerváltás korának csillagai és a feltörekvő mai fiatalok.
 
SAJTÓANYAG
LOCATION:Budapest Marriott Hotel
SUMMARY:2. Háború Utáni és Kortárs Művek Aukciója
END:VEVENT
END:VCALENDAR