BEGIN:VCALENDAR
VERSION:2.0
PRODID:-//kieselbach//NONSGML v1.0//EN
BEGIN:VEVENT
DTSTART;VALUE=DATE:20211011
DTEND;VALUE=DATE:20211011
DTSTAMP:20260424T153028Z
UID:69eb7074a49f9@kieselbach.hu
CREATED:20260424T153028Z
DESCRIPTION:
LOCATION:Marriott Hotel Budapest
SUMMARY:66. Aukció
END:VEVENT
END:VCALENDAR