BEGIN:VCALENDAR
VERSION:2.0
PRODID:-//kieselbach//NONSGML v1.0//EN
BEGIN:VEVENT
DTSTART;VALUE=DATE:20191011
DTEND;VALUE=DATE:20191011
DTSTAMP:20260424T153221Z
UID:69eb70e5999b3@kieselbach.hu
CREATED:20260424T153221Z
DESCRIPTION:Szeretettel meghívjuk a Kieselbach Galéria őszi aukciójára\, melyet 2019. október 11-én este 18 órakor tartunk a Marriott Hotel dísztermében.
LOCATION:Budapest Marriott Hotel
SUMMARY:62. Őszi Aukció
END:VEVENT
END:VCALENDAR