BEGIN:VCALENDAR
VERSION:2.0
PRODID:-//kieselbach//NONSGML v1.0//EN
BEGIN:VEVENT
DTSTART;VALUE=DATE:20190520
DTEND;VALUE=DATE:20190520
DTSTAMP:20260425T004610Z
UID:69ebf2b234e04@kieselbach.hu
CREATED:20260425T004610Z
DESCRIPTION:Szeretettel meghívjuk a Kieselbach Galéria tavaszi aukciójára\, melyet 2019. május 20-án este 18 órakor tartunk a Marriott Hotel dísztermében.
LOCATION:Budapest Marriott Hotel
SUMMARY:61. Tavaszi Aukció
END:VEVENT
END:VCALENDAR