BEGIN:VCALENDAR
VERSION:2.0
PRODID:-//kieselbach//NONSGML v1.0//EN
BEGIN:VEVENT
DTSTART;VALUE=DATE:20181217
DTEND;VALUE=DATE:20181217
DTSTAMP:20260424T153107Z
UID:69eb709b04faa@kieselbach.hu
CREATED:20260424T153107Z
DESCRIPTION:Szeretettel meghívjuk a Kieselbach Galéria téli aukciójára\, melyet 2018. december 17-én este 18 órakor tartunk a Marriott Hotel dísztermében.
LOCATION:Budapest Marriott Hotel
SUMMARY:60. Téli Aukció
END:VEVENT
END:VCALENDAR