BEGIN:VCALENDAR
VERSION:2.0
PRODID:-//kieselbach//NONSGML v1.0//EN
BEGIN:VEVENT
DTSTART;VALUE=DATE:20180513
DTEND;VALUE=DATE:20180513
DTSTAMP:20260425T004552Z
UID:69ebf2a021f71@kieselbach.hu
CREATED:20260425T004552Z
DESCRIPTION:Szeretettel meghívjuk a Kieselbach Galéria tavaszi aukciójára\, melyet 2018. május 13-án este 18 órakor tartunk a Marriott Hotel dísztermében.
VIRTUÁLIS TÚRA A KIÁLLÍTÁSON
LOCATION:Budapest Marriott Hotel
SUMMARY:58. Tavaszi Aukció
END:VEVENT
END:VCALENDAR