BEGIN:VCALENDAR
VERSION:2.0
PRODID:-//kieselbach//NONSGML v1.0//EN
BEGIN:VEVENT
DTSTART;VALUE=DATE:20170526
DTEND;VALUE=DATE:20170526
DTSTAMP:20260424T170950Z
UID:69eb87beaff42@kieselbach.hu
CREATED:20260424T170950Z
DESCRIPTION:Szeretettel meghívjuk a Kieselbach Galéria 55. aukciójára a budapesti Marriott Hotelbe. Az aukció időpontja: 2017. május 26. 18 óra.
VIRTUÁLIS TÚRA A KIÁLLÍTÁSON
LOCATION:Hotel Marriott Budapest
SUMMARY:55. Tavaszi Aukció
END:VEVENT
END:VCALENDAR