BEGIN:VCALENDAR
VERSION:2.0
PRODID:-//kieselbach//NONSGML v1.0//EN
BEGIN:VEVENT
DTSTART;VALUE=DATE:20151221
DTEND;VALUE=DATE:20151221
DTSTAMP:20260424T153143Z
UID:69eb70bfd0e19@kieselbach.hu
CREATED:20260424T153143Z
DESCRIPTION:Szeretettel meghívjuk a Kieselbach Galéria 51. téli aukciójára a budapesti Marriott Hotelbe.
Az aukció 2015. december 21-én\, hétfőn este 18 órakor kezdődik
Az aukciós kiállítás december 5–20. között a hét minden napján megtekinthető a galériában (1055 Budapest\, Szent István krt. 5.).
LOCATION:a Marriott Hotel díszterme (1052 Budapest\, Apáczai Csere János u. 4.)
SUMMARY:51. téli aukció
END:VEVENT
END:VCALENDAR