BEGIN:VCALENDAR
VERSION:2.0
PRODID:-//kieselbach//NONSGML v1.0//EN
BEGIN:VEVENT
DTSTART;VALUE=DATE:20151012
DTEND;VALUE=DATE:20151012
DTSTAMP:20260425T004612Z
UID:69ebf2b429c21@kieselbach.hu
CREATED:20260425T004612Z
DESCRIPTION:Szeretettel meghívjuk a Kieselbach Galéria 50. aukciójára a budapesti Marriott Hotelbe.
Az aukció időpontja: 2015. október 12.\, 18 óra.
Az aukciós kiállítás megtekinthető szeptember 29-től október 11-ig minden nap 10-től 18 óráig!
 
LOCATION:Hotel Marriott Budapest (1052 Budapest\, Apáczai Csere János utca 4.)
SUMMARY:50. őszi aukció
END:VEVENT
END:VCALENDAR