BEGIN:VCALENDAR
VERSION:2.0
PRODID:-//kieselbach//NONSGML v1.0//EN
BEGIN:VEVENT
DTSTART;VALUE=DATE:20141220
DTEND;VALUE=DATE:20141220
DTSTAMP:20260424T153151Z
UID:69eb70c73b33b@kieselbach.hu
CREATED:20260424T153151Z
DESCRIPTION:Szeretettel meghívjuk a Kieselbach Galéria 48. aukciójára a budapesti Marriott Hotelbe. Az aukció időpontja: 2014. december 20.\, 18 óra.
Az aukciós anyag kiállítása december 5-én 14 órától látogatható minden nap 10 és 18 óra között\, a Kieselbach Galériában.
LOCATION:Hotel Marriott Budapest (1052 Budapest\, Apáczai Csere János u. 4.)
SUMMARY:48. téli aukció
END:VEVENT
END:VCALENDAR