BEGIN:VCALENDAR
VERSION:2.0
PRODID:-//kieselbach//NONSGML v1.0//EN
BEGIN:VEVENT
DTSTART;VALUE=DATE:20141006
DTEND;VALUE=DATE:20141006
DTSTAMP:20260424T153236Z
UID:69eb70f45c9db@kieselbach.hu
CREATED:20260424T153236Z
DESCRIPTION:Szeretettel várjuk őszi aukciónkra\, melyet szokásunkhoz híven a budapesti Hotel Marriottban tartunk. Az aukciós kiállítás galériánkban 2014. szeptember 25-től tekinthető meg\, minden nap 10 és 18 óra között.
LOCATION:Hotel Marriott Budapest (1052 Budapest Apáczai Csere János u. 4.)
SUMMARY:47. őszi aukció
END:VEVENT
END:VCALENDAR