BEGIN:VCALENDAR
VERSION:2.0
PRODID:-//kieselbach//NONSGML v1.0//EN
BEGIN:VEVENT
DTSTART;VALUE=DATE:20140605
DTEND;VALUE=DATE:20140605
DTSTAMP:20260424T153148Z
UID:69eb70c4148a0@kieselbach.hu
CREATED:20260424T153148Z
DESCRIPTION:Szeretettel várjuk 46. aukciónkon a Marriott Hotelben. Az anyag bemutatkozó kiállítása május 17-től tekinthető meg galériánkban\, minden nap 10 és 18 óra között. Címünk változatlan: 1055 Budapest\, Szent István körút 5.
LOCATION:Hotel Marriott Budapest (1052 Budapest\, Apáczai Csere János utca 4.)
SUMMARY:46. Aukció
END:VEVENT
END:VCALENDAR