BEGIN:VCALENDAR
VERSION:2.0
PRODID:-//kieselbach//NONSGML v1.0//EN
BEGIN:VEVENT
DTSTART;VALUE=DATE:20121218
DTEND;VALUE=DATE:20121218
DTSTAMP:20260424T195724Z
UID:69ebaf04a3ac0@kieselbach.hu
CREATED:20260424T195724Z
DESCRIPTION:A Kieselbach Galéria soron következő téli festményárverését
2012. december 18-án 18 órakor 
tartja a budapesti Marriott Hotelben (V. kerület\, 1052 Apáczai Csere János u. 4. sz.)
Az aukciós kiállítás a Kieselbach Galériában 2012. december 8. 10 órátol látogatható. A tárlat 2012. december 17-ig minden nap 10 és 18 óra között tekinthető meg.
LOCATION:Hotel Marriott Budapest (1052 Budapest\, V. ker. Apáczai Csere János u. 4.)
SUMMARY:42. Aukció
END:VEVENT
END:VCALENDAR