BEGIN:VCALENDAR
VERSION:2.0
PRODID:-//kieselbach//NONSGML v1.0//EN
BEGIN:VEVENT
DTSTART;VALUE=DATE:20120427
DTEND;VALUE=DATE:20120427
DTSTAMP:20260424T153143Z
UID:69eb70bfe381b@kieselbach.hu
CREATED:20260424T153143Z
DESCRIPTION:A Kieselbach Galéria a Bátor Tábor Alapítvány együttműködő partnereként vesz részt a kortárs művészeti aukció megszervezésében. Az aukció anyaga megtekinthető honlapunkon.
Az árverés nem nyilvános. Galériánkban vételi megbízásokat átveszünk.
LOCATION:
SUMMARY:8. Bátor Tábor Kortárs Művészeti Aukció
END:VEVENT
END:VCALENDAR