BEGIN:VCALENDAR
VERSION:2.0
PRODID:-//kieselbach//NONSGML v1.0//EN
BEGIN:VEVENT
DTSTART;VALUE=DATE:20070424
DTEND;VALUE=DATE:20070424
DTSTAMP:20260424T153142Z
UID:69eb70be14f72@kieselbach.hu
CREATED:20260424T153142Z
DESCRIPTION:A Bátor Tábor Alapítvány - melynek célja komplex terápiás rekreációs programok megvalósítása daganatos és más krónikus betegséggel élő gyermekek és családjaik részére - felkérésére a Kieselbach Galéria és a Deák Erika Galéria közös szervezésében immár harmadszor kerül sor a Hilton Budapest szállodában a kortárs művek jótékony céllal történő árverezésére.
LOCATION:Hilton Hotel (Hess András tér 1-3.)
SUMMARY:3. Bátor Tábor Kortárs Művészeti Aukció
END:VEVENT
END:VCALENDAR