BEGIN:VCALENDAR
VERSION:2.0
PRODID:-//kieselbach//NONSGML v1.0//EN
BEGIN:VEVENT
DTSTART;VALUE=DATE:20111221
DTEND;VALUE=DATE:20111221
DTSTAMP:20260424T153140Z
UID:69eb70bcdaca0@kieselbach.hu
CREATED:20260424T153140Z
DESCRIPTION:A Kieselbach Galéria becsáras  szisztémában rendezi meg téli árverését a 19–20. századi magyar festészet remekműveiből. Az új becsáras rendszerben a kikiáltási árak az alsó becsérték hatvan százaléka körüli összegben kerülnek megállapításra.
Az aukciós kiállítás 2011. december 9. és december 20. között látogatható minden nap 10 és 18 óra között a Kieselbach Galériában. (1055 Budapest\, Szent István körút 5.)
Az aukció anyagát összeállította:KIESELBACH TAMÁS művészettörténészMÁTHÉ FERENC festménybecsüsEINSPACH GÁBOR igazságügyi szakértő
Az árverést vezeti: WINKLER NÓRA
LOCATION:Hotel Marriott (Apáczai Csere János u. 4.)
SUMMARY:40. Aukció
END:VEVENT
END:VCALENDAR